Package: ANF Version: 1.28.0 Command: /home/biocbuild/R/R/bin/R CMD INSTALL ANF StartedAt: 2025-01-30 20:56:07 -0000 (Thu, 30 Jan 2025) EndedAt: 2025-01-30 20:56:15 -0000 (Thu, 30 Jan 2025) EllapsedTime: 7.9 seconds RetCode: 0 Status: OK