Package: ANF Version: 1.28.0 Command: /home/biocbuild/bbs-3.20-bioc/R/bin/R CMD check --install=check:ANF.install-out.txt --library=/home/biocbuild/bbs-3.20-bioc/R/site-library --timings ANF_1.28.0.tar.gz StartedAt: 2025-01-30 19:52:17 -0500 (Thu, 30 Jan 2025) EndedAt: 2025-01-30 19:54:19 -0500 (Thu, 30 Jan 2025) EllapsedTime: 122.1 seconds RetCode: 0 Status: OK CheckDir: ANF.Rcheck Warnings: 0