Package: ANF Version: 1.28.0 Command: /Library/Frameworks/R.framework/Resources/bin/R CMD build --keep-empty-dirs --no-resave-data ANF StartedAt: 2025-01-30 18:46:25 -0500 (Thu, 30 Jan 2025) EndedAt: 2025-01-30 18:47:29 -0500 (Thu, 30 Jan 2025) EllapsedTime: 63.9 seconds RetCode: 0 Status: OK PackageFile: ANF_1.28.0.tar.gz PackageFileSize: 683.4 KiB