Package: ANF Version: 1.28.0 Command: rm -rf ANF.buildbin-libdir && mkdir ANF.buildbin-libdir && /Users/biocbuild/BBS/utils/build-universal.sh ANF_1.28.0.tar.gz /Library/Frameworks/R.framework/Resources/bin/R ANF.buildbin-libdir StartedAt: 2025-02-01 13:52:22 -0500 (Sat, 01 Feb 2025) EndedAt: 2025-02-01 13:52:31 -0500 (Sat, 01 Feb 2025) EllapsedTime: 9.0 seconds RetCode: 0 Status: OK PackageFile: ANF_1.28.0.tgz PackageFileSize: 251.5 KiB