Package: ANCOMBC Version: 2.8.1 Command: /home/biocbuild/R/R/bin/R CMD check --install=check:ANCOMBC.install-out.txt --library=/home/biocbuild/R/R/site-library --no-vignettes --timings ANCOMBC_2.8.1.tar.gz StartedAt: 2025-01-31 03:47:13 -0000 (Fri, 31 Jan 2025) EndedAt: 2025-01-31 03:53:25 -0000 (Fri, 31 Jan 2025) EllapsedTime: 371.6 seconds RetCode: 0 Status: OK CheckDir: ANCOMBC.Rcheck Warnings: 0