Package: AMOUNTAIN Version: 1.32.0 Command: rm -rf AMOUNTAIN.buildbin-libdir && mkdir AMOUNTAIN.buildbin-libdir && /Users/biocbuild/BBS/utils/build-universal.sh AMOUNTAIN_1.32.0.tar.gz /Library/Frameworks/R.framework/Resources/bin/R AMOUNTAIN.buildbin-libdir StartedAt: 2025-01-31 12:19:05 -0500 (Fri, 31 Jan 2025) EndedAt: 2025-01-31 12:19:13 -0500 (Fri, 31 Jan 2025) EllapsedTime: 8.3 seconds RetCode: 0 Status: OK PackageFile: AMOUNTAIN_1.32.0.tgz PackageFileSize: 1.767 MiB