Package: AMARETTO Version: 1.22.0 Command: chmod a+r AMARETTO -R && F:\biocbuild\bbs-3.20-bioc\R\bin\R.exe CMD build --keep-empty-dirs --no-resave-data AMARETTO StartedAt: 2025-01-30 17:15:27 -0500 (Thu, 30 Jan 2025) EndedAt: 2025-01-30 17:17:15 -0500 (Thu, 30 Jan 2025) EllapsedTime: 107.8 seconds RetCode: 1 Status: ERROR PackageFile: None PackageFileSize: NA