Package: AMARETTO Version: 1.22.0 Command: rm -rf AMARETTO.buildbin-libdir && mkdir AMARETTO.buildbin-libdir && F:\biocbuild\bbs-3.20-bioc\R\bin\R.exe CMD INSTALL --build --library=AMARETTO.buildbin-libdir AMARETTO_1.22.0.tar.gz StartedAt: 2025-01-10 07:38:20 -0500 (Fri, 10 Jan 2025) EndedAt: 2025-01-10 07:39:48 -0500 (Fri, 10 Jan 2025) EllapsedTime: 88.6 seconds RetCode: 0 Status: OK PackageFile: AMARETTO_1.22.0.zip PackageFileSize: 3.384 MiB