Package: AMARETTO Version: 1.22.0 Command: /home/biocbuild/bbs-3.20-bioc/R/bin/R CMD check --install=check:AMARETTO.install-out.txt --library=/home/biocbuild/bbs-3.20-bioc/R/site-library --timings AMARETTO_1.22.0.tar.gz StartedAt: 2025-01-30 19:50:56 -0500 (Thu, 30 Jan 2025) EndedAt: 2025-01-30 19:55:20 -0500 (Thu, 30 Jan 2025) EllapsedTime: 264.3 seconds RetCode: 0 Status: WARNINGS CheckDir: AMARETTO.Rcheck Warnings: 1