Package: AHMassBank Version: 1.6.0 Command: F:\biocbuild\bbs-3.20-bioc\R\bin\R.exe CMD INSTALL AHMassBank StartedAt: 2025-01-30 16:14:17 -0500 (Thu, 30 Jan 2025) EndedAt: 2025-01-30 16:15:02 -0500 (Thu, 30 Jan 2025) EllapsedTime: 44.6 seconds RetCode: 0 Status: OK