Package: AHMassBank Version: 1.6.0 Command: chmod a+r AHMassBank -R && F:\biocbuild\bbs-3.20-bioc\R\bin\R.exe CMD build --keep-empty-dirs --no-resave-data AHMassBank StartedAt: 2025-01-30 17:13:37 -0500 (Thu, 30 Jan 2025) EndedAt: 2025-01-30 17:14:59 -0500 (Thu, 30 Jan 2025) EllapsedTime: 82.0 seconds RetCode: 0 Status: OK PackageFile: AHMassBank_1.6.0.tar.gz PackageFileSize: 293.4 KiB