Package: AHMassBank Version: 1.6.0 Command: /home/biocbuild/bbs-3.20-bioc/R/bin/R CMD INSTALL AHMassBank StartedAt: 2025-01-30 15:30:32 -0500 (Thu, 30 Jan 2025) EndedAt: 2025-01-30 15:31:16 -0500 (Thu, 30 Jan 2025) EllapsedTime: 43.6 seconds RetCode: 0 Status: OK