Package: ADAM Version: 1.22.0 Command: /home/biocbuild/R/R/bin/R CMD INSTALL ADAM StartedAt: 2025-01-30 20:38:14 -0000 (Thu, 30 Jan 2025) EndedAt: 2025-01-30 20:38:54 -0000 (Thu, 30 Jan 2025) EllapsedTime: 40.4 seconds RetCode: 0 Status: OK