Package: ADAM Version: 1.22.0 Command: /home/biocbuild/bbs-3.20-bioc/R/bin/R CMD check --install=check:ADAM.install-out.txt --library=/home/biocbuild/bbs-3.20-bioc/R/site-library --timings ADAM_1.22.0.tar.gz StartedAt: 2025-01-30 19:46:39 -0500 (Thu, 30 Jan 2025) EndedAt: 2025-01-30 19:49:47 -0500 (Thu, 30 Jan 2025) EllapsedTime: 188.3 seconds RetCode: 0 Status: OK CheckDir: ADAM.Rcheck Warnings: 0