Package: ABarray Version: 1.74.0 Command: /home/biocbuild/bbs-3.20-bioc/R/bin/R CMD INSTALL ABarray StartedAt: 2025-01-30 15:54:52 -0500 (Thu, 30 Jan 2025) EndedAt: 2025-01-30 15:55:01 -0500 (Thu, 30 Jan 2025) EllapsedTime: 9.1 seconds RetCode: 0 Status: OK