Package: ABSSeq Version: 1.60.0 Command: /Library/Frameworks/R.framework/Resources/bin/R CMD INSTALL ABSSeq StartedAt: 2025-01-30 15:13:09 -0500 (Thu, 30 Jan 2025) EndedAt: 2025-01-30 15:13:14 -0500 (Thu, 30 Jan 2025) EllapsedTime: 5.2 seconds RetCode: 0 Status: OK