Package: hapmap500knsp Version: 1.49.0 Command: /home/biocbuild/bbs-3.21-bioc/R/bin/R CMD build --keep-empty-dirs --no-resave-data hapmap500knsp StartedAt: 2025-01-30 11:20:22 -0500 (Thu, 30 Jan 2025) EndedAt: 2025-01-30 11:23:03 -0500 (Thu, 30 Jan 2025) EllapsedTime: 160.6 seconds RetCode: 0 Status: OK PackageFile: hapmap500knsp_1.49.0.tar.gz PackageFileSize: 80.39 MiB