Package: gDRtestData Version: 1.5.1 Command: /home/biocbuild/bbs-3.21-bioc/R/bin/R CMD build --keep-empty-dirs --no-resave-data gDRtestData StartedAt: 2025-01-30 11:19:07 -0500 (Thu, 30 Jan 2025) EndedAt: 2025-01-30 11:19:12 -0500 (Thu, 30 Jan 2025) EllapsedTime: 5.0 seconds RetCode: 0 Status: OK PackageFile: gDRtestData_1.5.1.tar.gz PackageFileSize: 8.396 MiB