Package: DMRcatedata Version: 2.25.0 Command: /home/biocbuild/bbs-3.21-bioc/R/bin/R CMD INSTALL DMRcatedata StartedAt: 2025-01-30 11:03:39 -0500 (Thu, 30 Jan 2025) EndedAt: 2025-01-30 11:04:17 -0500 (Thu, 30 Jan 2025) EllapsedTime: 37.5 seconds RetCode: 0 Status: OK