This page was generated on 2024-06-03 18:46:05 -0400 (Mon, 03 Jun 2024).
|
Hostname | OS | Arch (*) | R version | Installed pkgs |
---|---|---|---|---|
nebbiolo2 | Linux (Ubuntu 22.04.3 LTS) | x86_64 | 4.4.0 RC (2024-04-16 r86468) -- "Puppy Cup" | 4669 |
Click on any hostname to see more info about the system (e.g. compilers) (*) as reported by 'uname -p', except on Windows and Mac OS X |
A |
QUICK STATS | OS / Arch | INSTALL | BUILD | CHECK | ||||||||||||||
nebbiolo2 | Linux (Ubuntu 22.04.3 LTS) / x86_64 |
|
|
| ||||||||||||||
Package | Maintainer | INSTALL | BUILD | CHECK | ||||||||||||||
1/10 | BiocBookDemo 1.3.0 (landing page) | Jacques Serizay | OK | ERROR | skipped | |||||||||||||
2/10 | csawBook 1.13.0 (landing page) | Aaron Lun | OK | OK | OK | |||||||||||||
3/10 | OHCA 1.1.0 (landing page) | Jacques Serizay | OK | OK | OK | |||||||||||||
4/10 | OSCA 1.15.0 (landing page) | Alan O'Callaghan | OK | OK | OK | |||||||||||||
5/10 | OSCA.advanced 1.13.2 (landing page) | Ludwig Geistlinger | OK | ERROR | skipped | |||||||||||||
6/10 | OSCA.basic 1.13.0 (landing page) | Peter Hickey | OK | OK | OK | |||||||||||||
7/10 | OSCA.intro 1.13.0 (landing page) | Ludwig Geistlinger | OK | OK | OK | |||||||||||||
8/10 | OSCA.multisample 1.13.0 (landing page) | Alan O'Callaghan | OK | OK | OK | |||||||||||||
9/10 | OSCA.workflows 1.13.0 (landing page) | Peter Hickey | OK | OK | OK | |||||||||||||
10/10 | SingleRBook 1.15.0 (landing page) | Aaron Lun | OK | OK | OK |