Package: xcms Version: 4.5.2 Command: /home/rapidbuild/bbs-3.21-bioc-rapid/R/bin/R CMD check --install=check:xcms.install-out.txt --library=/home/rapidbuild/bbs-3.21-bioc-rapid/R/site-library --timings xcms_4.5.2.tar.gz StartedAt: 2025-02-01 15:22:59 -0500 (Sat, 01 Feb 2025) EndedAt: 2025-02-01 15:43:01 -0500 (Sat, 01 Feb 2025) EllapsedTime: 1201.9 seconds RetCode: 0 Status: OK CheckDir: xcms.Rcheck Warnings: 0