Package: xcms Version: 4.5.2 Maintainer: Steffen Neumann MaintainerEmail: sneumann at ipb-halle.de git_url: https://git.bioconductor.org/packages/xcms git_branch: devel git_last_commit: 143f3b9f git_last_commit_date: 2024-12-15 06:11:00 -0500 (Sun, 15 Dec 2024)