Package: vsn Version: 3.75.0 Command: /home/rapidbuild/bbs-3.21-bioc-rapid/R/bin/R CMD build --keep-empty-dirs --no-resave-data vsn StartedAt: 2025-02-01 13:37:02 -0500 (Sat, 01 Feb 2025) EndedAt: 2025-02-01 13:37:34 -0500 (Sat, 01 Feb 2025) EllapsedTime: 32.6 seconds RetCode: 0 Status: OK PackageFile: vsn_3.75.0.tar.gz PackageFileSize: 1.926 MiB