Package: supraHex Version: 1.45.1 Command: /home/rapidbuild/bbs-3.21-bioc-rapid/R/bin/R CMD INSTALL supraHex StartedAt: 2025-02-01 12:12:55 -0500 (Sat, 01 Feb 2025) EndedAt: 2025-02-01 12:13:01 -0500 (Sat, 01 Feb 2025) EllapsedTime: 6.0 seconds RetCode: 0 Status: OK