Package: mzR Version: 2.41.1 Command: /home/rapidbuild/bbs-3.21-bioc-rapid/R/bin/R CMD INSTALL mzR StartedAt: 2025-02-02 06:08:25 -0500 (Sun, 02 Feb 2025) EndedAt: 2025-02-02 06:14:59 -0500 (Sun, 02 Feb 2025) EllapsedTime: 393.8 seconds RetCode: 0 Status: OK