Package: mzR Version: 2.41.1 Command: /home/rapidbuild/bbs-3.21-bioc-rapid/R/bin/R CMD check --install=check:mzR.install-out.txt --library=/home/rapidbuild/bbs-3.21-bioc-rapid/R/site-library --timings mzR_2.41.1.tar.gz StartedAt: 2025-02-02 08:45:53 -0500 (Sun, 02 Feb 2025) EndedAt: 2025-02-02 08:46:53 -0500 (Sun, 02 Feb 2025) EllapsedTime: 60.6 seconds RetCode: 0 Status: WARNINGS CheckDir: mzR.Rcheck Warnings: 2