Package: gdsfmt Version: 1.43.1 Command: /home/rapidbuild/bbs-3.21-bioc-rapid/R/bin/R CMD check --install=check:gdsfmt.install-out.txt --library=/home/rapidbuild/bbs-3.21-bioc-rapid/R/site-library --timings gdsfmt_1.43.1.tar.gz StartedAt: 2025-02-02 08:18:27 -0500 (Sun, 02 Feb 2025) EndedAt: 2025-02-02 08:19:59 -0500 (Sun, 02 Feb 2025) EllapsedTime: 91.6 seconds RetCode: 0 Status: OK CheckDir: gdsfmt.Rcheck Warnings: 0