Package: gdsfmt Version: 1.43.1 Command: /home/rapidbuild/bbs-3.21-bioc-rapid/R/bin/R CMD build --keep-empty-dirs --no-resave-data gdsfmt StartedAt: 2025-02-02 06:47:02 -0500 (Sun, 02 Feb 2025) EndedAt: 2025-02-02 06:49:52 -0500 (Sun, 02 Feb 2025) EllapsedTime: 170.5 seconds RetCode: 0 Status: OK PackageFile: gdsfmt_1.43.1.tar.gz PackageFileSize: 2.796 MiB