Package: edgeR Version: 4.5.2 Command: /home/rapidbuild/bbs-3.21-bioc-rapid/R/bin/R CMD build --keep-empty-dirs --no-resave-data edgeR StartedAt: 2025-02-02 06:39:33 -0500 (Sun, 02 Feb 2025) EndedAt: 2025-02-02 06:39:48 -0500 (Sun, 02 Feb 2025) EllapsedTime: 15.0 seconds RetCode: 0 Status: OK PackageFile: edgeR_4.5.2.tar.gz PackageFileSize: 3.281 MiB