Package: edgeR Version: 4.5.2 Maintainer: Yunshun Chen , Gordon Smyth , Aaron Lun , Mark Robinson MaintainerEmail: mark.robinson at imls.uzh.ch git_url: https://git.bioconductor.org/packages/edgeR git_branch: devel git_last_commit: 6987a9c git_last_commit_date: 2025-01-24 00:46:39 -0500 (Fri, 24 Jan 2025)