Package: clusterProfiler Version: 4.15.1 Command: /home/rapidbuild/bbs-3.21-bioc-rapid/R/bin/R CMD check --install=check:clusterProfiler.install-out.txt --library=/home/rapidbuild/bbs-3.21-bioc-rapid/R/site-library --timings clusterProfiler_4.15.1.tar.gz StartedAt: 2025-02-02 07:56:17 -0500 (Sun, 02 Feb 2025) EndedAt: 2025-02-02 07:58:48 -0500 (Sun, 02 Feb 2025) EllapsedTime: 150.5 seconds RetCode: 0 Status: OK CheckDir: clusterProfiler.Rcheck Warnings: 0