Package: S4Vectors Version: 0.45.2 Command: /home/rapidbuild/bbs-3.21-bioc-rapid/R/bin/R CMD build --keep-empty-dirs --no-resave-data S4Vectors StartedAt: 2025-02-01 13:25:34 -0500 (Sat, 01 Feb 2025) EndedAt: 2025-02-01 13:26:17 -0500 (Sat, 01 Feb 2025) EllapsedTime: 43.3 seconds RetCode: 0 Status: OK PackageFile: S4Vectors_0.45.2.tar.gz PackageFileSize: 1.022 MiB