Package: Rgraphviz Version: 2.51.0 Command: /home/rapidbuild/bbs-3.21-bioc-rapid/R/bin/R CMD INSTALL Rgraphviz StartedAt: 2025-02-02 06:09:26 -0500 (Sun, 02 Feb 2025) EndedAt: 2025-02-02 06:10:49 -0500 (Sun, 02 Feb 2025) EllapsedTime: 83.0 seconds RetCode: 0 Status: OK