Package: MsBackendMgf Version: 1.15.2 Command: /home/rapidbuild/bbs-3.21-bioc-rapid/R/bin/R CMD check --install=check:MsBackendMgf.install-out.txt --library=/home/rapidbuild/bbs-3.21-bioc-rapid/R/site-library --timings MsBackendMgf_1.15.2.tar.gz StartedAt: 2025-02-02 08:41:24 -0500 (Sun, 02 Feb 2025) EndedAt: 2025-02-02 08:42:21 -0500 (Sun, 02 Feb 2025) EllapsedTime: 57.0 seconds RetCode: 0 Status: OK CheckDir: MsBackendMgf.Rcheck Warnings: 0