Package: DirichletMultinomial Version: 1.49.0 Command: /home/rapidbuild/bbs-3.21-bioc-rapid/R/bin/R CMD INSTALL DirichletMultinomial StartedAt: 2025-02-02 06:10:49 -0500 (Sun, 02 Feb 2025) EndedAt: 2025-02-02 06:10:56 -0500 (Sun, 02 Feb 2025) EllapsedTime: 6.4 seconds RetCode: 0 Status: OK