Package: AnnotationForge Version: 1.49.0 Command: /home/rapidbuild/bbs-3.21-bioc-rapid/R/bin/R CMD check --install=check:AnnotationForge.install-out.txt --library=/home/rapidbuild/bbs-3.21-bioc-rapid/R/site-library --timings AnnotationForge_1.49.0.tar.gz StartedAt: 2025-02-02 07:39:54 -0500 (Sun, 02 Feb 2025) EndedAt: 2025-02-02 07:43:16 -0500 (Sun, 02 Feb 2025) EllapsedTime: 201.9 seconds RetCode: 0 Status: OK CheckDir: AnnotationForge.Rcheck Warnings: 0