Package: yarn Version: 1.33.0 Command: /home/biocbuild/R/R/bin/R CMD build --keep-empty-dirs --no-resave-data yarn StartedAt: 2025-01-28 03:14:34 -0000 (Tue, 28 Jan 2025) EndedAt: 2025-01-28 03:16:21 -0000 (Tue, 28 Jan 2025) EllapsedTime: 107.0 seconds RetCode: 0 Status: OK PackageFile: yarn_1.33.0.tar.gz PackageFileSize: 2.961 MiB