Package: xmapbridge Version: 1.65.0 Command: chmod a+r xmapbridge -R && E:\biocbuild\bbs-3.21-bioc\R\bin\R.exe CMD build --keep-empty-dirs --no-resave-data xmapbridge StartedAt: 2025-01-31 22:04:00 -0500 (Fri, 31 Jan 2025) EndedAt: 2025-01-31 22:05:07 -0500 (Fri, 31 Jan 2025) EllapsedTime: 67.3 seconds RetCode: 0 Status: OK PackageFile: xmapbridge_1.65.0.tar.gz PackageFileSize: 2.903 MiB