Package: xmapbridge Version: 1.65.0 Command: /Library/Frameworks/R.framework/Resources/bin/R CMD INSTALL xmapbridge StartedAt: 2025-01-31 15:02:16 -0500 (Fri, 31 Jan 2025) EndedAt: 2025-01-31 15:02:18 -0500 (Fri, 31 Jan 2025) EllapsedTime: 2.0 seconds RetCode: 0 Status: OK