Package: wiggleplotr Version: 1.31.0 Command: /home/biocbuild/bbs-3.21-bioc/R/bin/R CMD INSTALL wiggleplotr StartedAt: 2025-01-31 15:23:56 -0500 (Fri, 31 Jan 2025) EndedAt: 2025-01-31 15:24:01 -0500 (Fri, 31 Jan 2025) EllapsedTime: 4.9 seconds RetCode: 0 Status: OK