Package: wiggleplotr Version: 1.31.0 Command: /home/biocbuild/bbs-3.21-bioc/R/bin/R CMD check --install=check:wiggleplotr.install-out.txt --library=/home/biocbuild/bbs-3.21-bioc/R/site-library --timings wiggleplotr_1.31.0.tar.gz StartedAt: 2025-02-01 03:39:56 -0500 (Sat, 01 Feb 2025) EndedAt: 2025-02-01 03:41:47 -0500 (Sat, 01 Feb 2025) EllapsedTime: 111.2 seconds RetCode: 0 Status: OK CheckDir: wiggleplotr.Rcheck Warnings: 0