Package: wavClusteR Version: 2.41.0 Command: /home/biocbuild/R/R/bin/R CMD INSTALL wavClusteR StartedAt: 2025-01-29 20:06:57 -0000 (Wed, 29 Jan 2025) EndedAt: 2025-01-29 20:07:46 -0000 (Wed, 29 Jan 2025) EllapsedTime: 49.2 seconds RetCode: 0 Status: OK