Package: vulcan Version: 1.29.0 Command: E:\biocbuild\bbs-3.21-bioc\R\bin\R.exe CMD INSTALL vulcan StartedAt: 2025-01-31 16:36:56 -0500 (Fri, 31 Jan 2025) EndedAt: 2025-01-31 16:38:07 -0500 (Fri, 31 Jan 2025) EllapsedTime: 71.0 seconds RetCode: 0 Status: OK