Package: vulcan Version: 1.29.0 Command: /home/biocbuild/R/R/bin/R CMD INSTALL vulcan StartedAt: 2025-01-29 20:24:03 -0000 (Wed, 29 Jan 2025) EndedAt: 2025-01-29 20:25:25 -0000 (Wed, 29 Jan 2025) EllapsedTime: 82.0 seconds RetCode: 0 Status: OK