Package: vsn Version: 3.75.0 Command: chmod a+r vsn -R && E:\biocbuild\bbs-3.21-bioc\R\bin\R.exe CMD build --keep-empty-dirs --no-resave-data vsn StartedAt: 2025-01-31 22:00:49 -0500 (Fri, 31 Jan 2025) EndedAt: 2025-01-31 22:02:12 -0500 (Fri, 31 Jan 2025) EllapsedTime: 82.9 seconds RetCode: 0 Status: OK PackageFile: vsn_3.75.0.tar.gz PackageFileSize: 1.304 MiB