Package: viper Version: 1.41.0 Command: /home/biocbuild/R/R/bin/R CMD INSTALL viper StartedAt: 2025-01-29 20:16:51 -0000 (Wed, 29 Jan 2025) EndedAt: 2025-01-29 20:17:09 -0000 (Wed, 29 Jan 2025) EllapsedTime: 18.2 seconds RetCode: 0 Status: OK