Package: updateObject Version: 1.11.0 Command: /Library/Frameworks/R.framework/Resources/bin/R CMD build --keep-empty-dirs --no-resave-data updateObject StartedAt: 2025-01-31 18:35:30 -0500 (Fri, 31 Jan 2025) EndedAt: 2025-01-31 18:36:00 -0500 (Fri, 31 Jan 2025) EllapsedTime: 29.6 seconds RetCode: 0 Status: OK PackageFile: updateObject_1.11.0.tar.gz PackageFileSize: 1.289 MiB