Package: universalmotif Version: 1.25.1 Command: E:\biocbuild\bbs-3.21-bioc\R\bin\R.exe CMD check --no-multiarch --install=check:universalmotif.install-out.txt --library=E:\biocbuild\bbs-3.21-bioc\R\library --no-vignettes --timings universalmotif_1.25.1.tar.gz StartedAt: 2025-02-01 06:05:25 -0500 (Sat, 01 Feb 2025) EndedAt: 2025-02-01 06:08:57 -0500 (Sat, 01 Feb 2025) EllapsedTime: 211.5 seconds RetCode: 0 Status: OK CheckDir: universalmotif.Rcheck Warnings: 0