Package: unifiedWMWqPCR Version: 1.43.0 Command: /home/biocbuild/bbs-3.21-bioc/R/bin/R CMD check --install=check:unifiedWMWqPCR.install-out.txt --library=/home/biocbuild/bbs-3.21-bioc/R/site-library --timings unifiedWMWqPCR_1.43.0.tar.gz StartedAt: 2025-02-01 03:30:45 -0500 (Sat, 01 Feb 2025) EndedAt: 2025-02-01 03:31:20 -0500 (Sat, 01 Feb 2025) EllapsedTime: 35.0 seconds RetCode: 0 Status: OK CheckDir: unifiedWMWqPCR.Rcheck Warnings: 0