Package: uSORT Version: 1.33.0 Command: /home/biocbuild/bbs-3.21-bioc/R/bin/R CMD build --keep-empty-dirs --no-resave-data uSORT StartedAt: 2025-01-31 19:43:47 -0500 (Fri, 31 Jan 2025) EndedAt: 2025-01-31 19:44:15 -0500 (Fri, 31 Jan 2025) EllapsedTime: 28.0 seconds RetCode: 0 Status: OK PackageFile: uSORT_1.33.0.tar.gz PackageFileSize: 2.814 MiB